BEGIN:VCALENDAR
PRODID:-//eluceo/ical//2.0/EN
VERSION:2.0
CALSCALE:GREGORIAN
BEGIN:VEVENT
UID:7200d7595a27a307e44b1d991fae6ac5
DTSTAMP:20260423T162723Z
SUMMARY:Präsenzapéro Konstanz
DESCRIPTION:Referenten/innen: Treffen der Konstanzer und Kreuzlingen Rotary
  Clubs
URL:https://rotary-kreuzlingen.ch/de/agenda/show/41282
DTSTART;TZID=Europe/Zurich:20140903T183000
DTEND;TZID=Europe/Zurich:20140903T183000
LOCATION:Hotel Riva\, Konstanz
CATEGORIES:Rotary
END:VEVENT
BEGIN:VTIMEZONE
TZID:Europe/Zurich
BEGIN:DAYLIGHT
DTSTART:20140903T183000
TZNAME:CEST
TZOFFSETTO:+0200
TZOFFSETFROM:+0200
END:DAYLIGHT
END:VTIMEZONE
END:VCALENDAR
