BEGIN:VCALENDAR
PRODID:-//eluceo/ical//2.0/EN
VERSION:2.0
CALSCALE:GREGORIAN
BEGIN:VEVENT
UID:6cd7b27519a192d5811e0ae5ec92a137
DTSTAMP:20260423T125228Z
SUMMARY:Plauderlunch
DESCRIPTION:
URL:https://rotary-kreuzlingen.ch/de/agenda/show/41283
DTSTART;TZID=Europe/Zurich:20140903T121500
DTEND;TZID=Europe/Zurich:20140903T121500
LOCATION:Waaghaus\, Gottlieben
CATEGORIES:Rotary
END:VEVENT
BEGIN:VTIMEZONE
TZID:Europe/Zurich
BEGIN:DAYLIGHT
DTSTART:20140903T121500
TZNAME:CEST
TZOFFSETTO:+0200
TZOFFSETFROM:+0200
END:DAYLIGHT
END:VTIMEZONE
END:VCALENDAR
