BEGIN:VCALENDAR
PRODID:-//eluceo/ical//2.0/EN
VERSION:2.0
CALSCALE:GREGORIAN
BEGIN:VEVENT
UID:2c893aaaecfd9b540cc5be07d6763cd4
DTSTAMP:20260423T181125Z
SUMMARY:Care Management
DESCRIPTION:Referenten/innen: Vincenzo Nocilla\, Agenturleiter SWICA Kreuzl
 ingen
URL:https://rotary-kreuzlingen.ch/de/agenda/show/41284
DTSTART;TZID=Europe/Zurich:20140910T121500
DTEND;TZID=Europe/Zurich:20140910T121500
LOCATION:Waaghaus\, Gottlieben
CATEGORIES:Rotary
END:VEVENT
BEGIN:VTIMEZONE
TZID:Europe/Zurich
BEGIN:DAYLIGHT
DTSTART:20140910T121500
TZNAME:CEST
TZOFFSETTO:+0200
TZOFFSETFROM:+0200
END:DAYLIGHT
END:VTIMEZONE
END:VCALENDAR
