BEGIN:VCALENDAR
PRODID:-//eluceo/ical//2.0/EN
VERSION:2.0
CALSCALE:GREGORIAN
BEGIN:VEVENT
UID:d235f49d41036d972254f272ada1dfd6
DTSTAMP:20260423T194925Z
SUMMARY:Governorbesuch
DESCRIPTION:Referenten/innen: DG Florian Rupper
URL:https://rotary-kreuzlingen.ch/de/agenda/show/41285
DTSTART;TZID=Europe/Zurich:20140917T121500
DTEND;TZID=Europe/Zurich:20140917T121500
LOCATION:Waaghaus\, Gottlieben
CATEGORIES:Rotary
END:VEVENT
BEGIN:VTIMEZONE
TZID:Europe/Zurich
BEGIN:DAYLIGHT
DTSTART:20140917T121500
TZNAME:CEST
TZOFFSETTO:+0200
TZOFFSETFROM:+0200
END:DAYLIGHT
END:VTIMEZONE
END:VCALENDAR
